BEGIN:VCALENDAR
VERSION:2.0
PRODID:-//Charlotte Floyd Music Studio - ECPv6.15.17//NONSGML v1.0//EN
CALSCALE:GREGORIAN
METHOD:PUBLISH
X-ORIGINAL-URL:https://www.charlottefloydmusicstudio.com
X-WR-CALDESC:Events for Charlotte Floyd Music Studio
REFRESH-INTERVAL;VALUE=DURATION:PT1H
X-Robots-Tag:noindex
X-PUBLISHED-TTL:PT1H

BEGIN:VEVENT
DTSTART;VALUE=DATE:20251222
DTEND;VALUE=DATE:20260104
DTSTAMP:20260423T105023
CREATED:20230808T142256Z
LAST-MODIFIED:20250204T144434Z
UID:1631-1766361600-1767484799@www.charlottefloydmusicstudio.com
SUMMARY:Holiday - Christmas
DESCRIPTION:
URL:https://www.charlottefloydmusicstudio.com/event/holiday-christmas/
CATEGORIES:Event
END:VEVENT
BEGIN:VEVENT
DTSTART;VALUE=DATE:20251219
DTEND;VALUE=DATE:20251220
DTSTAMP:20260423T105023
CREATED:20250204T144534Z
LAST-MODIFIED:20250204T144534Z
UID:1965-1766102400-1766188799@www.charlottefloydmusicstudio.com
SUMMARY:Fall Semester Ends
DESCRIPTION:
URL:https://www.charlottefloydmusicstudio.com/event/fall-semester-ends/
END:VEVENT
BEGIN:VEVENT
DTSTART;VALUE=DATE:20251124
DTEND;VALUE=DATE:20251129
DTSTAMP:20260423T105023
CREATED:20230808T142214Z
LAST-MODIFIED:20250204T144455Z
UID:1629-1763942400-1764374399@www.charlottefloydmusicstudio.com
SUMMARY:Holiday - Thanksgiving Week
DESCRIPTION:
URL:https://www.charlottefloydmusicstudio.com/event/holiday-thanksgiving-week/
CATEGORIES:Event
END:VEVENT
BEGIN:VEVENT
DTSTART;VALUE=DATE:20250818
DTEND;VALUE=DATE:20250819
DTSTAMP:20260423T105023
CREATED:20230808T142544Z
LAST-MODIFIED:20250204T144315Z
UID:1639-1755475200-1755561599@www.charlottefloydmusicstudio.com
SUMMARY:Fall Semester Begins
DESCRIPTION:
URL:https://www.charlottefloydmusicstudio.com/event/fall-semester-begins-2/
LOCATION:Charlotte Floyd Music Studio\, 1420 West SW Loop 323\, Suite 5\, Tyler\, TX\, 75701\, United States
CATEGORIES:Event
END:VEVENT
BEGIN:VEVENT
DTSTART;VALUE=DATE:20250707
DTEND;VALUE=DATE:20250713
DTSTAMP:20260423T105023
CREATED:20230808T142518Z
LAST-MODIFIED:20250616T183605Z
UID:1637-1751846400-1752364799@www.charlottefloydmusicstudio.com
SUMMARY:Studio Closed for Summer Vacation
DESCRIPTION:
URL:https://www.charlottefloydmusicstudio.com/event/studio-closed/
CATEGORIES:Event
END:VEVENT
BEGIN:VEVENT
DTSTART;VALUE=DATE:20250602
DTEND;VALUE=DATE:20250815
DTSTAMP:20260423T105023
CREATED:20230808T141919Z
LAST-MODIFIED:20250204T143618Z
UID:1621-1748822400-1755215999@www.charlottefloydmusicstudio.com
SUMMARY:2025 Summer Music
DESCRIPTION:
URL:https://www.charlottefloydmusicstudio.com/event/2025-summer-music/
CATEGORIES:Event
END:VEVENT
BEGIN:VEVENT
DTSTART;VALUE=DATE:20250523
DTEND;VALUE=DATE:20250524
DTSTAMP:20260423T105023
CREATED:20211103T160016Z
LAST-MODIFIED:20250204T144205Z
UID:1279-1747958400-1748044799@www.charlottefloydmusicstudio.com
SUMMARY:Spring Semester Ends
DESCRIPTION:
URL:https://www.charlottefloydmusicstudio.com/event/spring-semester-ends/
CATEGORIES:Event
END:VEVENT
BEGIN:VEVENT
DTSTART;VALUE=DATE:20250516
DTEND;VALUE=DATE:20250517
DTSTAMP:20260423T105023
CREATED:20240307T172940Z
LAST-MODIFIED:20250204T144124Z
UID:1762-1747353600-1747439999@www.charlottefloydmusicstudio.com
SUMMARY:Spring Recital
DESCRIPTION:
URL:https://www.charlottefloydmusicstudio.com/event/spring-recital-2/
CATEGORIES:Event
END:VEVENT
BEGIN:VEVENT
DTSTART;VALUE=DATE:20250107
DTEND;VALUE=DATE:20250108
DTSTAMP:20260423T105023
CREATED:20230808T142349Z
LAST-MODIFIED:20250204T144145Z
UID:1633-1736208000-1736294399@www.charlottefloydmusicstudio.com
SUMMARY:Spring Semester Begins
DESCRIPTION:
URL:https://www.charlottefloydmusicstudio.com/event/spring-semester-begins/
LOCATION:Charlotte Floyd Music Studio\, 1420 West SW Loop 323\, Suite 5\, Tyler\, TX\, 75701\, United States
CATEGORIES:Event
END:VEVENT
BEGIN:VEVENT
DTSTART;VALUE=DATE:20240311
DTEND;VALUE=DATE:20240316
DTSTAMP:20260423T105023
CREATED:20240307T173010Z
LAST-MODIFIED:20240307T173010Z
UID:1764-1710115200-1710547199@www.charlottefloydmusicstudio.com
SUMMARY:Studio Closed for Spring Break
DESCRIPTION:
URL:https://www.charlottefloydmusicstudio.com/event/studio-closed-for-spring-break/
CATEGORIES:Event
END:VEVENT
BEGIN:VEVENT
DTSTART;VALUE=DATE:20240115
DTEND;VALUE=DATE:20240116
DTSTAMP:20260423T105023
CREATED:20230808T142427Z
LAST-MODIFIED:20230808T142427Z
UID:1635-1705276800-1705363199@www.charlottefloydmusicstudio.com
SUMMARY:Holiday - Martin Luther King Jr Day
DESCRIPTION:
URL:https://www.charlottefloydmusicstudio.com/event/holiday-martin-luther-king-jr-day/
CATEGORIES:Event
END:VEVENT
BEGIN:VEVENT
DTSTART;VALUE=DATE:20230904
DTEND;VALUE=DATE:20230905
DTSTAMP:20260423T105023
CREATED:20230808T142125Z
LAST-MODIFIED:20230808T142125Z
UID:1627-1693785600-1693871999@www.charlottefloydmusicstudio.com
SUMMARY:Holiday - Labor Day
DESCRIPTION:
URL:https://www.charlottefloydmusicstudio.com/event/holiday-labor-day/
CATEGORIES:Event
END:VEVENT
BEGIN:VEVENT
DTSTART;VALUE=DATE:20230821
DTEND;VALUE=DATE:20230822
DTSTAMP:20260423T105023
CREATED:20230808T141826Z
LAST-MODIFIED:20230808T141826Z
UID:1619-1692576000-1692662399@www.charlottefloydmusicstudio.com
SUMMARY:Fall Semester Begins
DESCRIPTION:
URL:https://www.charlottefloydmusicstudio.com/event/fall-semester-begins/
LOCATION:Charlotte Floyd Music Studio\, 1420 West SW Loop 323\, Suite 5\, Tyler\, TX\, 75701\, United States
CATEGORIES:Event
END:VEVENT
BEGIN:VEVENT
DTSTART;VALUE=DATE:20230817
DTEND;VALUE=DATE:20230818
DTSTAMP:20260423T105023
CREATED:20230808T142045Z
LAST-MODIFIED:20230808T142045Z
UID:1625-1692230400-1692316799@www.charlottefloydmusicstudio.com
SUMMARY:Summer Semester Ends
DESCRIPTION:
URL:https://www.charlottefloydmusicstudio.com/event/summer-semester-ends/
CATEGORIES:Event
END:VEVENT
BEGIN:VEVENT
DTSTART;VALUE=DATE:20230807
DTEND;VALUE=DATE:20230811
DTSTAMP:20260423T105023
CREATED:20230808T142000Z
LAST-MODIFIED:20230808T142000Z
UID:1623-1691366400-1691711999@www.charlottefloydmusicstudio.com
SUMMARY:Summer Studio Recitals
DESCRIPTION:We will be showing off what students have learned during the Summer.\nStudio Recitals will be held during regular lesson times during the week of Aug  8/7 – 8/10
URL:https://www.charlottefloydmusicstudio.com/event/summer-studio-recitals/
LOCATION:Charlotte Floyd Music Studio\, 1420 West SW Loop 323\, Suite 5\, Tyler\, TX\, 75701\, United States
CATEGORIES:Event
END:VEVENT
BEGIN:VEVENT
DTSTART;VALUE=DATE:20220606
DTEND;VALUE=DATE:20220607
DTSTAMP:20260423T105023
CREATED:20211103T160340Z
LAST-MODIFIED:20211103T160340Z
UID:1283-1654473600-1654559999@www.charlottefloydmusicstudio.com
SUMMARY:Summer Session
DESCRIPTION:begins: June 6
URL:https://www.charlottefloydmusicstudio.com/event/summer-session/
CATEGORIES:Event
END:VEVENT
BEGIN:VEVENT
DTSTART;VALUE=DATE:20220531
DTEND;VALUE=DATE:20220604
DTSTAMP:20260423T105023
CREATED:20211103T160255Z
LAST-MODIFIED:20211103T160255Z
UID:1281-1653955200-1654300799@www.charlottefloydmusicstudio.com
SUMMARY:Memorial Week
DESCRIPTION:Studio Closed Memorial Week: May 31 – June 3
URL:https://www.charlottefloydmusicstudio.com/event/memorial-week/
CATEGORIES:Event
END:VEVENT
BEGIN:VEVENT
DTSTART;VALUE=DATE:20220314
DTEND;VALUE=DATE:20220319
DTSTAMP:20260423T105023
CREATED:20211103T155827Z
LAST-MODIFIED:20211103T155827Z
UID:1275-1647216000-1647647999@www.charlottefloydmusicstudio.com
SUMMARY:Spring Break
DESCRIPTION:Closed for Spring Break Mar 14 – Mar 18
URL:https://www.charlottefloydmusicstudio.com/event/spring-break-2/
CATEGORIES:Event
END:VEVENT
BEGIN:VEVENT
DTSTART;VALUE=DATE:20220117
DTEND;VALUE=DATE:20220118
DTSTAMP:20260423T105023
CREATED:20211103T155739Z
LAST-MODIFIED:20211103T155739Z
UID:1273-1642377600-1642463999@www.charlottefloydmusicstudio.com
SUMMARY:Martin Luther King Holiday
DESCRIPTION:Closed for Martin Luther King Holiday\, Jan 17.
URL:https://www.charlottefloydmusicstudio.com/event/martin-luther-king-holiday/
CATEGORIES:Event
END:VEVENT
BEGIN:VEVENT
DTSTART;VALUE=DATE:20211220
DTEND;VALUE=DATE:20220101
DTSTAMP:20260423T105023
CREATED:20211103T155538Z
LAST-MODIFIED:20211103T155538Z
UID:1271-1639958400-1640995199@www.charlottefloydmusicstudio.com
SUMMARY:Christmas
DESCRIPTION:Closed for Christmas Dec 20 – Dec 31
URL:https://www.charlottefloydmusicstudio.com/event/christmas/
CATEGORIES:Event
END:VEVENT
BEGIN:VEVENT
DTSTART;TZID=America/Chicago:20211210T160000
DTEND;TZID=America/Chicago:20211210T200000
DTSTAMP:20260423T105023
CREATED:20211103T155355Z
LAST-MODIFIED:20211103T155355Z
UID:1269-1639152000-1639166400@www.charlottefloydmusicstudio.com
SUMMARY:Christmas Recitals
DESCRIPTION:Christmas Recitals\, December 10. 4:00 and 6:30. \nLocation: Lanes Chapel Methodist Church\, Tyler
URL:https://www.charlottefloydmusicstudio.com/event/christmas-recitals/
CATEGORIES:Event
ORGANIZER;CN="Charlotte Floyd Music Studio":MAILTO:cfloyd@charlottefloydmusicstudio.com
END:VEVENT
BEGIN:VEVENT
DTSTART;VALUE=DATE:20211122
DTEND;VALUE=DATE:20211128
DTSTAMP:20260423T105023
CREATED:20211103T155109Z
LAST-MODIFIED:20211103T155109Z
UID:1267-1637539200-1638057599@www.charlottefloydmusicstudio.com
SUMMARY:Thanksgiving
DESCRIPTION:We will be closed for the Thanksgiving holiday Nov 22 – Nov 27.
URL:https://www.charlottefloydmusicstudio.com/event/thanksgiving/
CATEGORIES:Event
END:VEVENT
BEGIN:VEVENT
DTSTART;VALUE=DATE:20210308
DTEND;VALUE=DATE:20210313
DTSTAMP:20260423T105023
CREATED:20201023T163609Z
LAST-MODIFIED:20201023T163609Z
UID:1022-1615161600-1615593599@www.charlottefloydmusicstudio.com
SUMMARY:Spring Break
DESCRIPTION:
URL:https://www.charlottefloydmusicstudio.com/event/spring-break/
CATEGORIES:Event
END:VEVENT
BEGIN:VEVENT
DTSTART;VALUE=DATE:20201221
DTEND;VALUE=DATE:20210104
DTSTAMP:20260423T105023
CREATED:20201023T163536Z
LAST-MODIFIED:20201023T163536Z
UID:1020-1608508800-1609718399@www.charlottefloydmusicstudio.com
SUMMARY:Christmas Holidays
DESCRIPTION:
URL:https://www.charlottefloydmusicstudio.com/event/christmas-holidays/
CATEGORIES:Event
END:VEVENT
BEGIN:VEVENT
DTSTART;VALUE=DATE:20201123
DTEND;VALUE=DATE:20201128
DTSTAMP:20260423T105023
CREATED:20201023T163423Z
LAST-MODIFIED:20201023T163423Z
UID:1018-1606089600-1606521599@www.charlottefloydmusicstudio.com
SUMMARY:Thanksgiving Holidays
DESCRIPTION:
URL:https://www.charlottefloydmusicstudio.com/event/thanksgiving-holidays/
CATEGORIES:Event
END:VEVENT
BEGIN:VEVENT
DTSTART;TZID=America/Chicago:02220513T163000
DTEND;TZID=America/Chicago:20220513T183000
DTSTAMP:20260423T105023
CREATED:20211103T155928Z
LAST-MODIFIED:20220401T183922Z
UID:1277--55150097400-1652466600@www.charlottefloydmusicstudio.com
SUMMARY:Spring Recital
DESCRIPTION:Spring Recital: May 13\, 4:30 and 6:30
URL:https://www.charlottefloydmusicstudio.com/event/spring-recital/
CATEGORIES:Event
END:VEVENT
END:VCALENDAR